BEGIN:VCALENDAR
VERSION:2.0
PRODID:-//Meridiana Texas - ECPv6.15.13//NONSGML v1.0//EN
CALSCALE:GREGORIAN
METHOD:PUBLISH
X-WR-CALNAME:Meridiana Texas
X-ORIGINAL-URL:https://meridianatexas.8r.prod.bubbleup.com
X-WR-CALDESC:Events for Meridiana Texas
REFRESH-INTERVAL;VALUE=DURATION:PT1H
X-Robots-Tag:noindex
X-PUBLISHED-TTL:PT1H
BEGIN:VTIMEZONE
TZID:America/New_York
BEGIN:DAYLIGHT
TZOFFSETFROM:-0500
TZOFFSETTO:-0400
TZNAME:EDT
DTSTART:20280312T070000
END:DAYLIGHT
BEGIN:STANDARD
TZOFFSETFROM:-0400
TZOFFSETTO:-0500
TZNAME:EST
DTSTART:20281105T060000
END:STANDARD
BEGIN:DAYLIGHT
TZOFFSETFROM:-0500
TZOFFSETTO:-0400
TZNAME:EDT
DTSTART:20290311T070000
END:DAYLIGHT
BEGIN:STANDARD
TZOFFSETFROM:-0400
TZOFFSETTO:-0500
TZNAME:EST
DTSTART:20291104T060000
END:STANDARD
BEGIN:DAYLIGHT
TZOFFSETFROM:-0500
TZOFFSETTO:-0400
TZNAME:EDT
DTSTART:20300310T070000
END:DAYLIGHT
BEGIN:STANDARD
TZOFFSETFROM:-0400
TZOFFSETTO:-0500
TZNAME:EST
DTSTART:20301103T060000
END:STANDARD
END:VTIMEZONE
BEGIN:VEVENT
DTSTART;TZID=America/New_York:20290612T190000
DTEND;TZID=America/New_York:20290612T200000
DTSTAMP:20260422T011257
CREATED:20251020T193854Z
LAST-MODIFIED:20251020T193854Z
UID:10008745-1875985200-1875988800@meridianatexas.8r.prod.bubbleup.com
SUMMARY:Evening Meditation with Jen
DESCRIPTION:1st and 3rd Tuesday – 7-8pm at the Conservatory\nhi@thehealedversion.com
URL:https://meridianatexas.8r.prod.bubbleup.com/event/evening-meditation-with-jen/2029-06-12/
LOCATION:Conservatory\, 4003 Meridiana Pkwy\, Iowa Colony\, TX\, 77583\, United States
CATEGORIES:Fitness/Educational Classes
ATTACH;FMTTYPE=image/png:https://meridianatexas.8r.prod.bubbleup.com/wp-content/uploads/Meridiana-Evening-Meditation-with-Jen.png
END:VEVENT
BEGIN:VEVENT
DTSTART;TZID=America/New_York:20290613T180000
DTEND;TZID=America/New_York:20290613T190000
DTSTAMP:20260422T011257
CREATED:20251020T193621Z
LAST-MODIFIED:20251020T193621Z
UID:10008615-1876068000-1876071600@meridianatexas.8r.prod.bubbleup.com
SUMMARY:Vocal Classes (Adults)
DESCRIPTION:  \n\n1st & 3rd Wednesdays – 6:00-6:45 pm (Adults)
URL:https://meridianatexas.8r.prod.bubbleup.com/event/vocal-classes-adults/2029-06-13/
LOCATION:TX
CATEGORIES:Fitness/Educational Classes
ATTACH;FMTTYPE=image/png:https://meridianatexas.8r.prod.bubbleup.com/wp-content/uploads/VOCAL-VOYAGE-FLYER-NOVDEC-25-1.png
END:VEVENT
BEGIN:VEVENT
DTSTART;TZID=America/New_York:20290626T190000
DTEND;TZID=America/New_York:20290626T200000
DTSTAMP:20260422T011257
CREATED:20251020T193854Z
LAST-MODIFIED:20251020T193854Z
UID:10008746-1877194800-1877198400@meridianatexas.8r.prod.bubbleup.com
SUMMARY:Evening Meditation with Jen
DESCRIPTION:1st and 3rd Tuesday – 7-8pm at the Conservatory\nhi@thehealedversion.com
URL:https://meridianatexas.8r.prod.bubbleup.com/event/evening-meditation-with-jen/2029-06-26/
LOCATION:Conservatory\, 4003 Meridiana Pkwy\, Iowa Colony\, TX\, 77583\, United States
CATEGORIES:Fitness/Educational Classes
ATTACH;FMTTYPE=image/png:https://meridianatexas.8r.prod.bubbleup.com/wp-content/uploads/Meridiana-Evening-Meditation-with-Jen.png
END:VEVENT
BEGIN:VEVENT
DTSTART;TZID=America/New_York:20290627T180000
DTEND;TZID=America/New_York:20290627T190000
DTSTAMP:20260422T011257
CREATED:20251020T193621Z
LAST-MODIFIED:20251020T193621Z
UID:10008616-1877277600-1877281200@meridianatexas.8r.prod.bubbleup.com
SUMMARY:Vocal Classes (Adults)
DESCRIPTION:  \n\n1st & 3rd Wednesdays – 6:00-6:45 pm (Adults)
URL:https://meridianatexas.8r.prod.bubbleup.com/event/vocal-classes-adults/2029-06-27/
LOCATION:TX
CATEGORIES:Fitness/Educational Classes
ATTACH;FMTTYPE=image/png:https://meridianatexas.8r.prod.bubbleup.com/wp-content/uploads/VOCAL-VOYAGE-FLYER-NOVDEC-25-1.png
END:VEVENT
END:VCALENDAR