BEGIN:VCALENDAR
VERSION:2.0
PRODID:-//Meridiana Texas - ECPv6.15.13//NONSGML v1.0//EN
CALSCALE:GREGORIAN
METHOD:PUBLISH
X-WR-CALNAME:Meridiana Texas
X-ORIGINAL-URL:https://meridianatexas.8r.prod.bubbleup.com
X-WR-CALDESC:Events for Meridiana Texas
REFRESH-INTERVAL;VALUE=DURATION:PT1H
X-Robots-Tag:noindex
X-PUBLISHED-TTL:PT1H
BEGIN:VTIMEZONE
TZID:America/New_York
BEGIN:DAYLIGHT
TZOFFSETFROM:-0500
TZOFFSETTO:-0400
TZNAME:EDT
DTSTART:20240310T070000
END:DAYLIGHT
BEGIN:STANDARD
TZOFFSETFROM:-0400
TZOFFSETTO:-0500
TZNAME:EST
DTSTART:20241103T060000
END:STANDARD
BEGIN:DAYLIGHT
TZOFFSETFROM:-0500
TZOFFSETTO:-0400
TZNAME:EDT
DTSTART:20250309T070000
END:DAYLIGHT
BEGIN:STANDARD
TZOFFSETFROM:-0400
TZOFFSETTO:-0500
TZNAME:EST
DTSTART:20251102T060000
END:STANDARD
BEGIN:DAYLIGHT
TZOFFSETFROM:-0500
TZOFFSETTO:-0400
TZNAME:EDT
DTSTART:20260308T070000
END:DAYLIGHT
BEGIN:STANDARD
TZOFFSETFROM:-0400
TZOFFSETTO:-0500
TZNAME:EST
DTSTART:20261101T060000
END:STANDARD
END:VTIMEZONE
BEGIN:VEVENT
DTSTART;TZID=America/New_York:20250110T200000
DTEND;TZID=America/New_York:20250110T220000
DTSTAMP:20260424T154614
CREATED:20250130T203004Z
LAST-MODIFIED:20250130T203004Z
UID:10005742-1736539200-1736546400@meridianatexas.8r.prod.bubbleup.com
SUMMARY:Stitch & Sip
DESCRIPTION:
URL:https://meridianatexas.8r.prod.bubbleup.com/event/stitch-sip/
LOCATION:Conservatory\, 4003 Meridiana Pkwy\, Iowa Colony\, TX\, 77583\, United States
CATEGORIES:Public Events
ATTACH;FMTTYPE=image/jpeg:https://meridianatexas.8r.prod.bubbleup.com/wp-content/uploads/471807746_1504057237213737_5615379574201425276_n.jpg
END:VEVENT
BEGIN:VEVENT
DTSTART;TZID=America/New_York:20250120T120000
DTEND;TZID=America/New_York:20250120T140000
DTSTAMP:20260424T154614
CREATED:20250130T203314Z
LAST-MODIFIED:20250130T203314Z
UID:10005744-1737374400-1737381600@meridianatexas.8r.prod.bubbleup.com
SUMMARY:MLK Day & Unity Bites & Book Dry
DESCRIPTION:
URL:https://meridianatexas.8r.prod.bubbleup.com/event/mlk-day-unity-bites-book-dry/
LOCATION:Conservatory\, 4003 Meridiana Pkwy\, Iowa Colony\, TX\, 77583\, United States
CATEGORIES:Public Events
ATTACH;FMTTYPE=image/jpeg:https://meridianatexas.8r.prod.bubbleup.com/wp-content/uploads/471847783_1504058373880290_5980379053041298919_n.jpg
END:VEVENT
BEGIN:VEVENT
DTSTART;TZID=America/New_York:20250120T170000
DTEND;TZID=America/New_York:20250120T180000
DTSTAMP:20260424T154614
CREATED:20250130T203128Z
LAST-MODIFIED:20250130T203451Z
UID:10005743-1737392400-1737396000@meridianatexas.8r.prod.bubbleup.com
SUMMARY:Law Enforcement Appreciation Day
DESCRIPTION:
URL:https://meridianatexas.8r.prod.bubbleup.com/event/law-enforcement-appreciation-day/
LOCATION:The Oasis Village\, 4003 Meridiana Pkwy\, Iowa Colony\, TX\, 77583\, United States
CATEGORIES:Public Events
ATTACH;FMTTYPE=image/png:https://meridianatexas.8r.prod.bubbleup.com/wp-content/uploads/29613f9ee23ad030-1.png
END:VEVENT
BEGIN:VEVENT
DTSTART;TZID=America/New_York:20250125T100000
DTEND;TZID=America/New_York:20250125T140000
DTSTAMP:20260424T154614
CREATED:20250130T183614Z
LAST-MODIFIED:20250130T184846Z
UID:10004771-1737799200-1737813600@meridianatexas.8r.prod.bubbleup.com
SUMMARY:Thrivefest
DESCRIPTION:Embark on the journey to your best self at ThriveFest\, a Health and Wellness Expo.. Join us for a thoughtfully curated event featuring vendors\, food trucks\, live demos\, engaging activities\, yoga\, meditation\, inspiring guest speakers\, and enlightening cooking demonstrations.
URL:https://meridianatexas.8r.prod.bubbleup.com/event/thrivefest/
CATEGORIES:Public Events
ATTACH;FMTTYPE=image/png:https://meridianatexas.8r.prod.bubbleup.com/wp-content/uploads/902bbda4249c8f29-1.png
END:VEVENT
END:VCALENDAR